BEGIN:VCALENDAR
VERSION:2.0
PRODID:-//Golf du Comminges - ECPv6.15.16//NONSGML v1.0//EN
CALSCALE:GREGORIAN
METHOD:PUBLISH
X-ORIGINAL-URL:https://golfducomminges-montrejeau.fr
X-WR-CALDESC:Évènements pour Golf du Comminges
REFRESH-INTERVAL;VALUE=DURATION:PT1H
X-Robots-Tag:noindex
X-PUBLISHED-TTL:PT1H
BEGIN:VTIMEZONE
TZID:Europe/Paris
BEGIN:DAYLIGHT
TZOFFSETFROM:+0100
TZOFFSETTO:+0200
TZNAME:CEST
DTSTART:20250330T010000
END:DAYLIGHT
BEGIN:STANDARD
TZOFFSETFROM:+0200
TZOFFSETTO:+0100
TZNAME:CET
DTSTART:20251026T010000
END:STANDARD
BEGIN:DAYLIGHT
TZOFFSETFROM:+0100
TZOFFSETTO:+0200
TZNAME:CEST
DTSTART:20260329T010000
END:DAYLIGHT
BEGIN:STANDARD
TZOFFSETFROM:+0200
TZOFFSETTO:+0100
TZNAME:CET
DTSTART:20261025T010000
END:STANDARD
BEGIN:DAYLIGHT
TZOFFSETFROM:+0100
TZOFFSETTO:+0200
TZNAME:CEST
DTSTART:20270328T010000
END:DAYLIGHT
BEGIN:STANDARD
TZOFFSETFROM:+0200
TZOFFSETTO:+0100
TZNAME:CET
DTSTART:20271031T010000
END:STANDARD
END:VTIMEZONE
BEGIN:VEVENT
DTSTART;TZID=Europe/Paris:20261001T080000
DTEND;TZID=Europe/Paris:20261001T170000
DTSTAMP:20260424T163544
CREATED:20240213T142636Z
LAST-MODIFIED:20260215T102528Z
UID:1442-1790841600-1790874000@golfducomminges-montrejeau.fr
SUMMARY:Amicale Sénior Bagnères de Bigorre  / Comminges
DESCRIPTION:Les compétitions « Amicales Seniors » sont un moment de détente alliant golf et convivialité. \nLa compétition sur un parcours de 18 trous le matin est suivi d’un repas pris en commun. \nUne occasion de rencontrer d’autres golfeurs\, qui deviennent des amis au fil du temps\, et l’occasion de découvrir différents Golfs de notre Région et du Sud-Ouest. \nToutes et tous peuvent y participer à la condition d’être de bonne humeur et d’être membre de l’Association du Golf du Comminges \nN’hésitez pas de vous renseigner auprès de : \nJacques Bordas – Capitaine – 06 07 06 34 25 \nDenis Costeseque – Vice-capitaine – 06 15 91 23 27 \nJean-François Plard – Vice-capitaine – 06 71 91 21 46
URL:https://golfducomminges-montrejeau.fr/event/amicale-senior-bagneres-de-bigorre-comminges/
LOCATION:Bagnères de Bigorre\, 1 chemin du Golf\, Pouzac\, 65200\, France
CATEGORIES:Amicales Séniors
END:VEVENT
BEGIN:VEVENT
DTSTART;TZID=Europe/Paris:20261006T000000
DTEND;TZID=Europe/Paris:20261008T000000
DTSTAMP:20260424T163544
CREATED:20260215T110615Z
LAST-MODIFIED:20260215T110615Z
UID:2171-1791244800-1791417600@golfducomminges-montrejeau.fr
SUMMARY:FIAC
DESCRIPTION:18T
URL:https://golfducomminges-montrejeau.fr/event/fiac/
CATEGORIES:Circuit Occitan Senior
END:VEVENT
BEGIN:VEVENT
DTSTART;TZID=Europe/Paris:20261013T000000
DTEND;TZID=Europe/Paris:20261015T000000
DTSTAMP:20260424T163544
CREATED:20260215T110616Z
LAST-MODIFIED:20260215T110616Z
UID:2172-1791849600-1792022400@golfducomminges-montrejeau.fr
SUMMARY:MONTAUBAN L'ESTANG
DESCRIPTION:18T
URL:https://golfducomminges-montrejeau.fr/event/montauban-lestang/
CATEGORIES:Circuit Occitan Senior
END:VEVENT
BEGIN:VEVENT
DTSTART;TZID=Europe/Paris:20261013T080000
DTEND;TZID=Europe/Paris:20261013T170000
DTSTAMP:20260424T163544
CREATED:20240213T143607Z
LAST-MODIFIED:20260215T101630Z
UID:1465-1791878400-1791910800@golfducomminges-montrejeau.fr
SUMMARY:Amicale Sénior Comminges / Hippodrome
DESCRIPTION:Les compétitions « Amicales Seniors » sont un moment de détente alliant golf et convivialité. \nLa compétition sur un parcours de 18 trous le matin est suivi d’un repas pris en commun. \nUne occasion de rencontrer d’autres golfeurs\, qui deviennent des amis au fil du temps\, et l’occasion de découvrir différents Golfs de notre Région et du Sud-Ouest. \nToutes et tous peuvent y participer à la condition d’être de bonne humeur et d’être membre de l’Association du Golf du Comminges \nN’hésitez pas de vous renseigner auprès de : \nJacques Bordas – Capitaine – 06 07 06 34 25 \nDenis Costeseque – Vice-capitaine – 06 15 91 23 27 \nJean-François Plard – Vice-capitaine – 06 71 91 21 46
URL:https://golfducomminges-montrejeau.fr/event/amicale-senior-comminges-hippodrome/
LOCATION:Golf du Comminges\, Chem. de Capele\, Montréjeau\, 31210\, France
CATEGORIES:Amicales Séniors
END:VEVENT
BEGIN:VEVENT
DTSTART;TZID=Europe/Paris:20261017T080000
DTEND;TZID=Europe/Paris:20261018T170000
DTSTAMP:20260424T163544
CREATED:20240209T120109Z
LAST-MODIFIED:20260215T103053Z
UID:1428-1792224000-1792342800@golfducomminges-montrejeau.fr
SUMMARY:Compétition Allianz Assurance
DESCRIPTION:Sponsor : \nLaurence ANTICHAN / Montréjeau                \nCécile BOURBON / Saint-Gaudens
URL:https://golfducomminges-montrejeau.fr/event/competition-allianz-assurance/
LOCATION:Golf du Comminges\, Chem. de Capele\, Montréjeau\, 31210\, France
CATEGORIES:Compétitions
END:VEVENT
END:VCALENDAR